BEGIN:VCALENDAR
PRODID:-//Pixl8//Eventfolio//EN
VERSION:2.0
X-WR-TIMEZONE:Europe/Brussels
CALSCALE:GREGORIAN
METHOD:PUBLISH
CLASS:PUBLIC
BEGIN:VTIMEZONE
TZID:Europe/Brussels
LAST-MODIFIED:20260306T231828Z
TZURL:https://www.tzurl.org/zoneinfo-outlook/Europe/Brussels
X-LIC-LOCATION:Europe/Brussels
BEGIN:DAYLIGHT
TZNAME:CEST
TZOFFSETFROM:+0100
TZOFFSETTO:+0200
DTSTART:19700329T020000
RRULE:FREQ=YEARLY;BYMONTH=3;BYDAY=-1SU
END:DAYLIGHT
BEGIN:STANDARD
TZNAME:CET
TZOFFSETFROM:+0200
TZOFFSETTO:+0100
DTSTART:19701025T030000
RRULE:FREQ=YEARLY;BYMONTH=10;BYDAY=-1SU
END:STANDARD
END:VTIMEZONE
BEGIN:VEVENT
DTSTART;TZID=Europe/Brussels:20261019T090000
DTEND;TZID=Europe/Brussels:20261019T173000
DTSTAMP:20260421T203951Z
UID:{FB085A0B-C010-4024-A03B2319FE9ABE5A.46314}
LOCATION:Online<br>
SUMMARY:Mastering blended mobility: Tools and strategies for effective BIPs 
DESCRIPTION:Unlock the know‑how to set-up and run Blended Intensive Programmes with clarity, confidence and expert-led insights.\n
 \n
 Event details: https://www.eaie.org/events/event-calendar/mastering-blended-mobility-tools-and-strategies-for-effective-bips.html
PRIORITY:1
END:VEVENT
BEGIN:VEVENT
DTSTART;TZID=Europe/Brussels:20261021T090000
DTEND;TZID=Europe/Brussels:20261021T170000
DTSTAMP:20260421T203951Z
UID:{FB085A0B-C010-4024-A03B2319FE9ABE5A.46316}
LOCATION:Online<br>
SUMMARY:Mastering blended mobility: Tools and strategies for effective BIPs 
DESCRIPTION:Unlock the know‑how to set-up and run Blended Intensive Programmes with clarity, confidence and expert-led insights.\n
 \n
 Event details: https://www.eaie.org/events/event-calendar/mastering-blended-mobility-tools-and-strategies-for-effective-bips.html
PRIORITY:1
END:VEVENT
END:VCALENDAR