BEGIN:VCALENDAR
PRODID:-//Pixl8//Eventfolio//EN
VERSION:2.0
X-WR-TIMEZONE:Europe/Brussels
CALSCALE:GREGORIAN
METHOD:PUBLISH
CLASS:PUBLIC
BEGIN:VTIMEZONE
TZID:Europe/Brussels
LAST-MODIFIED:20260306T231828Z
TZURL:https://www.tzurl.org/zoneinfo-outlook/Europe/Brussels
X-LIC-LOCATION:Europe/Brussels
BEGIN:DAYLIGHT
TZNAME:CEST
TZOFFSETFROM:+0100
TZOFFSETTO:+0200
DTSTART:19700329T020000
RRULE:FREQ=YEARLY;BYMONTH=3;BYDAY=-1SU
END:DAYLIGHT
BEGIN:STANDARD
TZNAME:CET
TZOFFSETFROM:+0200
TZOFFSETTO:+0100
DTSTART:19701025T030000
RRULE:FREQ=YEARLY;BYMONTH=10;BYDAY=-1SU
END:STANDARD
END:VTIMEZONE
BEGIN:VEVENT
DTSTART;TZID=Europe/Brussels:20261203T090000
DTEND;TZID=Europe/Brussels:20261203T180000
DTSTAMP:20260422T064709Z
UID:{17DB3093-2374-4B66-B8CF826A8407C02F.46359}
LOCATION:Venue: TBC
SUMMARY:How to manage an international office
DESCRIPTION:Build the skills and clarity you need to manage an international office with confidence and impact through in-person, expert-led learning.\n
 \n
 Event details: https://www.eaie.org/events/event-calendar/how-to-manage-an-international-office.html
PRIORITY:1
END:VEVENT
BEGIN:VEVENT
DTSTART;TZID=Europe/Brussels:20261204T090000
DTEND;TZID=Europe/Brussels:20261204T170000
DTSTAMP:20260422T064709Z
UID:{17DB3093-2374-4B66-B8CF826A8407C02F.46360}
LOCATION:Venue: TBC
SUMMARY:How to manage an international office
DESCRIPTION:Build the skills and clarity you need to manage an international office with confidence and impact through in-person, expert-led learning.\n
 \n
 Event details: https://www.eaie.org/events/event-calendar/how-to-manage-an-international-office.html
PRIORITY:1
END:VEVENT
END:VCALENDAR