BEGIN:VCALENDAR
PRODID:-//Pixl8//Eventfolio//EN
VERSION:2.0
X-WR-TIMEZONE:Europe/Brussels
CALSCALE:GREGORIAN
METHOD:PUBLISH
CLASS:PUBLIC
BEGIN:VTIMEZONE
TZID:Europe/Brussels
LAST-MODIFIED:20260306T231828Z
TZURL:https://www.tzurl.org/zoneinfo-outlook/Europe/Brussels
X-LIC-LOCATION:Europe/Brussels
BEGIN:DAYLIGHT
TZNAME:CEST
TZOFFSETFROM:+0100
TZOFFSETTO:+0200
DTSTART:19700329T020000
RRULE:FREQ=YEARLY;BYMONTH=3;BYDAY=-1SU
END:DAYLIGHT
BEGIN:STANDARD
TZNAME:CET
TZOFFSETFROM:+0200
TZOFFSETTO:+0100
DTSTART:19701025T030000
RRULE:FREQ=YEARLY;BYMONTH=10;BYDAY=-1SU
END:STANDARD
END:VTIMEZONE
BEGIN:VEVENT
DTSTART;TZID=Europe/Brussels:20260609T130000
DTEND;TZID=Europe/Brussels:20260609T134500
DTSTAMP:20260420T162857Z
UID:{87268F58-69C9-49DC-B63C9EAB228DE87D}
LOCATION:
SUMMARY:Getting visible on LinkedIn
DESCRIPTION:You know LinkedIn is important, now learn how to use it confidently and authentically. Join this member-exclusive webinar to build visibility and credibility online.\n
 \n
 Event details: https://www.eaie.org/events/event-calendar/getting-visible-on-linkedin.html
PRIORITY:1
END:VEVENT
END:VCALENDAR