BEGIN:VCALENDAR
PRODID:-//Pixl8//Eventfolio//EN
VERSION:2.0
X-WR-TIMEZONE:Europe/Brussels
CALSCALE:GREGORIAN
METHOD:PUBLISH
CLASS:PUBLIC
BEGIN:VTIMEZONE
TZID:Europe/Brussels
LAST-MODIFIED:20260306T231828Z
TZURL:https://www.tzurl.org/zoneinfo-outlook/Europe/Brussels
X-LIC-LOCATION:Europe/Brussels
BEGIN:DAYLIGHT
TZNAME:CEST
TZOFFSETFROM:+0100
TZOFFSETTO:+0200
DTSTART:19700329T020000
RRULE:FREQ=YEARLY;BYMONTH=3;BYDAY=-1SU
END:DAYLIGHT
BEGIN:STANDARD
TZNAME:CET
TZOFFSETFROM:+0200
TZOFFSETTO:+0100
DTSTART:19701025T030000
RRULE:FREQ=YEARLY;BYMONTH=10;BYDAY=-1SU
END:STANDARD
END:VTIMEZONE
BEGIN:VEVENT
DTSTART;TZID=Europe/Brussels:20261105T090000
DTEND;TZID=Europe/Brussels:20261105T173000
DTSTAMP:20260422T064932Z
UID:{6DD549C9-A7FF-478B-AD82BAE612788936.46331}
LOCATION:Venue: TBC
SUMMARY:Developing a strategic internationalisation plan
DESCRIPTION:Unlock the skills, clarity and confidence to design an internationalisation strategy that drives change.\n
 \n
 Event details: https://www.eaie.org/events/event-calendar/developing-a-strategic-internationalisation-plan.html
PRIORITY:1
END:VEVENT
BEGIN:VEVENT
DTSTART;TZID=Europe/Brussels:20261106T090000
DTEND;TZID=Europe/Brussels:20261106T170000
DTSTAMP:20260422T064932Z
UID:{6DD549C9-A7FF-478B-AD82BAE612788936.46332}
LOCATION:Venue: TBC
SUMMARY:Developing a strategic internationalisation plan
DESCRIPTION:Unlock the skills, clarity and confidence to design an internationalisation strategy that drives change.\n
 \n
 Event details: https://www.eaie.org/events/event-calendar/developing-a-strategic-internationalisation-plan.html
PRIORITY:1
END:VEVENT
END:VCALENDAR