BEGIN:VCALENDAR
PRODID:-//Pixl8//Eventfolio//EN
VERSION:2.0
X-WR-TIMEZONE:Europe/Brussels
CALSCALE:GREGORIAN
METHOD:PUBLISH
CLASS:PUBLIC
BEGIN:VTIMEZONE
TZID:Europe/Brussels
LAST-MODIFIED:20260306T231828Z
TZURL:https://www.tzurl.org/zoneinfo-outlook/Europe/Brussels
X-LIC-LOCATION:Europe/Brussels
BEGIN:DAYLIGHT
TZNAME:CEST
TZOFFSETFROM:+0100
TZOFFSETTO:+0200
DTSTART:19700329T020000
RRULE:FREQ=YEARLY;BYMONTH=3;BYDAY=-1SU
END:DAYLIGHT
BEGIN:STANDARD
TZNAME:CET
TZOFFSETFROM:+0200
TZOFFSETTO:+0100
DTSTART:19701025T030000
RRULE:FREQ=YEARLY;BYMONTH=10;BYDAY=-1SU
END:STANDARD
END:VTIMEZONE
BEGIN:VEVENT
DTSTART;TZID=Europe/Brussels:20260414T130000
DTEND;TZID=Europe/Brussels:20260414T134500
DTSTAMP:20260419T151936Z
UID:{A6184816-4989-456E-85CBFCF18817AD64}
LOCATION:
SUMMARY:Creating boundaries that work 
DESCRIPTION:Join our next webinar in the EAIE personal development series and learn practical strategies to set boundaries that protect your time, energy and focus—without feeling guilty.\n
 \n
 Event details: https://www.eaie.org/events/event-calendar/creating-boundaries-that-work.html
PRIORITY:1
END:VEVENT
END:VCALENDAR